BEGIN:VCALENDAR
VERSION:2.0
METHOD:PUBLISH
BEGIN:VEVENT
DTSTART:20200623T200000
DTEND:20200623T200000
LOCATION:Spółdzielnia Socjalna Dwie Zmiany ul. Bohaterów Monte Cassino 31  Sopot
TRANSP: OPAQUE
SEQUENCE:0
UID:
DTSTAMP:20260421T183451Z
SUMMARY:online na żywo: wykłady artystyczne​
DESCRIPTION:Zapraszamy na drugi z wirtualnych spacerów po wybranych wystawach i pracach wybitnych światowych twórców, z komentarzem osobistym artysty Roberta Sochackiego. Bohaterami drugiego wykładu......
URL:https://app.evenea.pl/event/850202-8/
PRIORITY:1
CLASS:PUBLIC
END:VEVENT
END:VCALENDAR
