BEGIN:VCALENDAR
VERSION:2.0
METHOD:PUBLISH
BEGIN:VEVENT
DTSTART:20200421T100000
DTEND:20200421T153000
LOCATION:Hotel Terminal Rakietowa 35  Wrocław
TRANSP: OPAQUE
SEQUENCE:0
UID:
DTSTAMP:20260425T151305Z
SUMMARY:XI Eko Wyzwania
DESCRIPTION:Cyklicznie zapraszamy na naszą konferencję, to XI Eko Wzywania. Ponownie we Wrocławiu, ponownie podstawowe hasło, które będziemy odmieniać przez wszystkie przypadki to ekologia.Jedenasty raz......
URL:https://app.evenea.pl/event/851211-1/
PRIORITY:1
CLASS:PUBLIC
END:VEVENT
END:VCALENDAR
