BEGIN:VCALENDAR
VERSION:2.0
METHOD:PUBLISH
BEGIN:VEVENT
DTSTART:20200317T113000
DTEND:20200317T113000
LOCATION:Hotel Ambasador Premium Kilińskiego 145  90-315
TRANSP: OPAQUE
SEQUENCE:0
UID:
DTSTAMP:20260420T003952Z
SUMMARY:ODWOŁANA!!! Kreatywni w edukacji - KONFERENCJA - Jak zmienić szkołę?
DESCRIPTION:W związku z zagrożeniem epidemiologicznym odwołujemy konferencję. O nowym terminie poinformujemy w najbliższym możliwie terminie.Z poważaniemOrganizatorzyZapraszamy nauczycieli, dyrektorów......
URL:https://app.evenea.pl/event/851968-1/
PRIORITY:1
CLASS:PUBLIC
END:VEVENT
END:VCALENDAR
