BEGIN:VCALENDAR
VERSION:2.0
METHOD:PUBLISH
BEGIN:VEVENT
DTSTART:20210815T173000
DTEND:20210815T173000
LOCATION:Dwór Zakoniczyn Wieżycka 40  Gdańsk
TRANSP: OPAQUE
SEQUENCE:0
UID:
DTSTAMP:20260423T170800Z
SUMMARY:Zwiedzaj Gdańsk: Zakoniczyn-Łostowice!
DESCRIPTION:Zwiedzamy południowy fragment Gdańska, Zakoniczyn - dworek, posłuchacie historii o Skorpionie, Łostowice - budynek przedwojennej szkoły, gdzie stały zabudowania dworskie oraz Wzgórze Luziy,......
URL:https://app.evenea.pl/event/852895-49/
PRIORITY:1
CLASS:PUBLIC
END:VEVENT
END:VCALENDAR
