BEGIN:VCALENDAR
VERSION:2.0
METHOD:PUBLISH
BEGIN:VEVENT
DTSTART:20220220T120000
DTEND:20220220T120000
LOCATION:kościół Piotra i Pawła Kapliczna 15  Gdańsk
TRANSP: OPAQUE
SEQUENCE:0
UID:
DTSTAMP:20260421T010925Z
SUMMARY:Zwiedzaj Gdańsk: Jelitkowo!
DESCRIPTION:Chcesz poczuć klimat przedwojennej wioski rybackiej, a może małego kurortu? Jelitkowo było znanym kąpieliskiem już od drugiej połowy XIX w. Jak w niemal każdym tego typu miejscu istniał tu......
URL:https://app.evenea.pl/event/852895-58/
PRIORITY:1
CLASS:PUBLIC
END:VEVENT
END:VCALENDAR
