BEGIN:VCALENDAR
VERSION:2.0
METHOD:PUBLISH
BEGIN:VEVENT
DTSTART:20220305T190000
DTEND:20220305T190000
LOCATION:na łączeniu ulic Szopy/Kamienna Grobla - pod wiaduktem Podwala Przedmiejskiego Szopy  Gdańsk
TRANSP: OPAQUE
SEQUENCE:0
UID:
DTSTAMP:20260424T132712Z
SUMMARY:Zwiedzaj Gdańsk: Dolne Miasto NOCĄ!
DESCRIPTION:Nowa trasa! Czas na spacer po zmroku! Przygotujcie latarki bądź lampki w telefonach - zwiedzamy Dolne Miasto, wokół fortyfikacji, wśród starych kamienic. Miejsce zbiórki: na łączeniu ulic......
URL:https://app.evenea.pl/event/852895-60/
PRIORITY:1
CLASS:PUBLIC
END:VEVENT
END:VCALENDAR
