BEGIN:VCALENDAR
VERSION:2.0
METHOD:PUBLISH
BEGIN:VEVENT
DTSTART:20220313T120000
DTEND:20220313T120000
LOCATION:Dolne Miasto Ułańska 11, Gdańsk  Gdańsk
TRANSP: OPAQUE
SEQUENCE:0
UID:
DTSTAMP:20260423T215656Z
SUMMARY:Zwiedzaj Gdańsk: Dolne Miasto!
DESCRIPTION:Zwiedzamy Dolne Miasto - tym razem w porze dziennej. Na trasie znajdzie się sporo detali - herby, rozetki tramwajowe, stare napisy. Będzie o nieistniejącej tablicy pamiątkowej i budynku straży......
URL:https://app.evenea.pl/event/852895-61/
PRIORITY:1
CLASS:PUBLIC
END:VEVENT
END:VCALENDAR
