BEGIN:VCALENDAR
VERSION:2.0
METHOD:PUBLISH
BEGIN:VEVENT
DTSTART:20220508T133000
DTEND:20220508T133000
LOCATION:Ulica Pohulanka pod wiaduktem Armii Krajowej Pohulanka  Gdańsk
TRANSP: OPAQUE
SEQUENCE:0
UID:
DTSTAMP:20260424T174556Z
SUMMARY:Zwiedzaj Gdańsk: Chełm-Biskupia Góra lasem!
DESCRIPTION:Trasę proponuję wśród zieleni i z dala od ruchliwych ulic - po lesie na granicy Chełma i Biskupiej Góry, po obrysie dawnych fortyfikacji. Tutaj kiedyś kończyło się miasto, a zaczynały......
URL:https://app.evenea.pl/event/852895-64/
PRIORITY:1
CLASS:PUBLIC
END:VEVENT
END:VCALENDAR
