BEGIN:VCALENDAR
VERSION:2.0
METHOD:PUBLISH
BEGIN:VEVENT
DTSTART:20250917T090000
DTEND:20250917T090000
LOCATION:Hotel Copernicus **** Bulwar Filadelfijski 11,  Toruń
TRANSP: OPAQUE
SEQUENCE:0
UID:
DTSTAMP:20260422T065403Z
SUMMARY:Transport Innovation Day 2025
DESCRIPTION: W 2025 roku Transport Manager wraca z 2 edycją Transport Innovation Day Tym razem spotkamy się 17 września w Toruniu, a dokładnie w przestrzeniach hotelu Copernicus**** Wydarzenie skierowane......
URL:https://app.evenea.pl/event/855248-32/
PRIORITY:1
CLASS:PUBLIC
END:VEVENT
END:VCALENDAR
