BEGIN:VCALENDAR
VERSION:2.0
METHOD:PUBLISH
BEGIN:VEVENT
DTSTART:20200512T180000
DTEND:20200512T180000
LOCATION:Platforma Webex   
TRANSP: OPAQUE
SEQUENCE:0
UID:
DTSTAMP:20260420T201531Z
SUMMARY:Webinar Dyżurnet.pl
DESCRIPTION:Celem webinarium jest zwrócenie uwagi na niebezpieczne kontakty online, które mogą być nawiązywane przez dzieci i młodzież, a także mogą prowadzić do podejmowania aktywności o......
URL:https://app.evenea.pl/event/855804-2/
PRIORITY:1
CLASS:PUBLIC
END:VEVENT
END:VCALENDAR
