BEGIN:VCALENDAR
VERSION:2.0
METHOD:PUBLISH
BEGIN:VEVENT
DTSTART:20210912T100000
DTEND:20210912T180000
LOCATION:KampinoSport Spotr & Spa Izabelińska 79  05-082 Stare Babice
TRANSP: OPAQUE
SEQUENCE:0
UID:
DTSTAMP:20260425T170018Z
SUMMARY:Turniej tenisa ziemnego - Misja Kampinos Cup
DESCRIPTION:Szanowni Państwo, 12 września 2021 r. w Klubie KampinoSport ul. Izabelińska 79, 05-082 Stare Babice odbędzie się Turniej tenisa ziemnego - Misja Kampinos Cup. Zapraszamy do zgłaszania się......
URL:https://app.evenea.pl/event/858210-8/
PRIORITY:1
CLASS:PUBLIC
END:VEVENT
END:VCALENDAR
