BEGIN:VCALENDAR
VERSION:2.0
METHOD:PUBLISH
BEGIN:VEVENT
DTSTART:20220623T170000
DTEND:20220623T170000
LOCATION:TECHNOPARK Konarskiego 18C  Gliwice
TRANSP: OPAQUE
SEQUENCE:0
UID:
DTSTAMP:20260422T182714Z
SUMMARY:Start It Up - XII Edycja
DESCRIPTION:Serdecznie zapraszamy na XII Edycję cyklicznego wydarzenia "Start it Up"! Która odbędzie się w tym roku stacjonarnie.Prelegenci XII edycji opowiedzą o sukcesie w biznesie: 17:00 - 17:20......
URL:https://app.evenea.pl/event/859006-8/
PRIORITY:1
CLASS:PUBLIC
END:VEVENT
END:VCALENDAR
