BEGIN:VCALENDAR
VERSION:2.0
METHOD:PUBLISH
BEGIN:VEVENT
DTSTART:20240424T100000
DTEND:20240424T100000
LOCATION:   
TRANSP: OPAQUE
SEQUENCE:0
UID:
DTSTAMP:20260420T160234Z
SUMMARY:Webinar - “Wsparcie na starcie: Akceleracja dla startupów na Mazowszu"
DESCRIPTION:STARTUP CAMP WEBINAR"Wsparcie na starcie: Akceleracja dla startupów na Mazowszu"24 kwietnia w godz.10:00 - 11:00onlineDołącz do naszego webinaru, który odbędzie się 24.04.2024 o godzinie......
URL:https://app.evenea.pl/event/85968-104/
PRIORITY:1
CLASS:PUBLIC
END:VEVENT
END:VCALENDAR
