BEGIN:VCALENDAR
VERSION:2.0
METHOD:PUBLISH
BEGIN:VEVENT
DTSTART:20250109T150000
DTEND:20250109T150000
LOCATION:   
TRANSP: OPAQUE
SEQUENCE:0
UID:
DTSTAMP:20260419T142451Z
SUMMARY:WEBINAR: Innowacje na Talerzu! 🌱 Jak trendy badania i pomagają tworzyć innowacyjne projekty w branży żywieniowej?
DESCRIPTION:\n\n	WEBINAR: Innowacje na Talerzu! 🌱 Jak trendy badania i pomagają tworzyć innowacyjne projekty w branży żywieniowej?\n\n🥗🌎 Czy wiesz, że to, co jesz każdego dnia, ma znaczenie nie......
URL:https://app.evenea.pl/event/85968-123/
PRIORITY:1
CLASS:PUBLIC
END:VEVENT
END:VCALENDAR
