BEGIN:VCALENDAR
VERSION:2.0
METHOD:PUBLISH
BEGIN:VEVENT
DTSTART:20220926T100000
DTEND:20220926T100000
LOCATION:Narodowe Muzeum Morskie Ołowianka 9-13  Gdańsk
TRANSP: OPAQUE
SEQUENCE:0
UID:
DTSTAMP:20260423T231104Z
SUMMARY:Konferencja: Jak przeżyć dorastanie i nie zwariować?
DESCRIPTION: Dane statystyczne wskazują, że co siódme dziecko mieszkające w Polsce jest niezadowolone ze swojego życia w stopniu, który zakłóca jego zdrowie psychiczne. UNICEF przeprowadził badania i......
URL:https://app.evenea.pl/event/861625-16/
PRIORITY:1
CLASS:PUBLIC
END:VEVENT
END:VCALENDAR
