BEGIN:VCALENDAR
VERSION:2.0
METHOD:PUBLISH
BEGIN:VEVENT
DTSTART:20250914T120000
DTEND:20250914T120000
LOCATION:   
TRANSP: OPAQUE
SEQUENCE:0
UID:
DTSTAMP:20260421T142458Z
SUMMARY:ZBLIŻENIA XIII | Hava Nagila, czyli radujmy się! | warsztaty tańców żydowskich | prowadzenie Beata Krzywda
DESCRIPTION:Kiedy: 14 września 2025, godz. 12:00-14:00 (obowiązują zapisy)*Gdzie: Nowa Synagoga w Gdańsku, ul. Partyzantów 7Warsztaty współczesnego folkowego tańca żydowskiego to okazja, by poznać......
URL:https://app.evenea.pl/event/861650-38/
PRIORITY:1
CLASS:PUBLIC
END:VEVENT
END:VCALENDAR
