BEGIN:VCALENDAR
VERSION:2.0
METHOD:PUBLISH
BEGIN:VEVENT
DTSTART:20250914T140000
DTEND:20250914T140000
LOCATION:   
TRANSP: OPAQUE
SEQUENCE:0
UID:
DTSTAMP:20260421T142458Z
SUMMARY:ZBLIŻENIA XIII | Alef, bet | warsztaty kaligrafii dla dorosłych | prowadzenie Jakub Skrzypczak
DESCRIPTION:Kiedy: 14 września 2025, godz. 14:00-15:30 (obowiązują zapisy)*Gdzie: Nowa Synagoga w Gdańsku, ul. Partyzantów 7Kabaliści za każdą hebrajską literą widzą potęgę boskiej transcendecji.......
URL:https://app.evenea.pl/event/861650-39/
PRIORITY:1
CLASS:PUBLIC
END:VEVENT
END:VCALENDAR
