BEGIN:VCALENDAR
VERSION:2.0
METHOD:PUBLISH
BEGIN:VEVENT
DTSTART:20250914T120000
DTEND:20250914T120000
LOCATION:   
TRANSP: OPAQUE
SEQUENCE:0
UID:
DTSTAMP:20260421T142415Z
SUMMARY:ZBLIŻENIA XIII | Tajemnice żydowskich talizmanów | warsztaty plastyczne dla dorosłych | prowadzenie Jakub Skrzypczak
DESCRIPTION:Kiedy: 14 września 2025, godz. 12:00-13:30 (obowiązują zapisy)*Gdzie: Nowa Synagoga w Gdańsku, ul. Partyzantów 7Jak litery, słowa i symbole łączą świat materialny i duchowy? Przed czym......
URL:https://app.evenea.pl/event/861650-41/
PRIORITY:1
CLASS:PUBLIC
END:VEVENT
END:VCALENDAR
