BEGIN:VCALENDAR
VERSION:2.0
METHOD:PUBLISH
BEGIN:VEVENT
DTSTART:20250914T110000
DTEND:20250914T110000
LOCATION:   
TRANSP: OPAQUE
SEQUENCE:0
UID:
DTSTAMP:20260421T142421Z
SUMMARY:ZBLIŻENIA XIII | Śródmieście: nie tylko Wielka Synagoga | spacer historyczny z Kaliną Krasowską
DESCRIPTION:Kiedy: 14 września 2025, godz. 11:00-13:00 (obowiązują zapisy)*Gdzie: zbiórka na Przystanku Autobusowym Brama Oruńska 02Spacer po dość szeroko rozumianym Śródmieściu Gdańska, z......
URL:https://app.evenea.pl/event/861650-42/
PRIORITY:1
CLASS:PUBLIC
END:VEVENT
END:VCALENDAR
