BEGIN:VCALENDAR
VERSION:2.0
METHOD:PUBLISH
BEGIN:VEVENT
DTSTART:20250913T110000
DTEND:20250913T110000
LOCATION:   
TRANSP: OPAQUE
SEQUENCE:0
UID:
DTSTAMP:20260421T142421Z
SUMMARY:ZBLIŻENIA XIII | Wrzeszcz: ukryte między kamieniami | spacer historyczny z Kaliną Krasowską
DESCRIPTION:Kiedy: 13 września 2025, godz. 11:00-13:00 (obowiązują zapisy)*Gdzie: zbiórka przy Nowej Synagodze przy ul. Partyzantów 7 w GdańskuPrzejście przez Wrzeszcz i zwiedzanie miejsc związanych z......
URL:https://app.evenea.pl/event/861650-43/
PRIORITY:1
CLASS:PUBLIC
END:VEVENT
END:VCALENDAR
