BEGIN:VCALENDAR
VERSION:2.0
METHOD:PUBLISH
BEGIN:VEVENT
DTSTART:20250914T120000
DTEND:20250914T120000
LOCATION:   
TRANSP: OPAQUE
SEQUENCE:0
UID:
DTSTAMP:20260422T022437Z
SUMMARY:ZBLIŻENIA XIII | Birkat ha Bait | warsztaty plastyczne | prowadzenie Hanka Kossowska
DESCRIPTION:Kiedy: 14 września 2025, godz. 12:00-13:30 (obowiązują zapisy)*Gdzie: Nowa Synagoga w Gdańsku, ul. Partyzantów 7W każdym żydowskim domu spotykamy dekoracje ścian nawiązujące do tradycji......
URL:https://app.evenea.pl/event/861650-44/
PRIORITY:1
CLASS:PUBLIC
END:VEVENT
END:VCALENDAR
