BEGIN:VCALENDAR
VERSION:2.0
METHOD:PUBLISH
BEGIN:VEVENT
DTSTART:20250911T183000
DTEND:20250911T183000
LOCATION:   
TRANSP: OPAQUE
SEQUENCE:0
UID:
DTSTAMP:20260422T021738Z
SUMMARY:ZBLIŻENIA XIII | Kiszutim/ozdoby | warsztaty plastyczne dla dzieci i dorosłych
DESCRIPTION:Kiedy: 11 września 2025, godz. 18:30-19:30 (obowiązują zapisy)*Gdzie: Nowa Synagoga w Gdańsku, ul. Partyzantów 7"Kiszutim" to po hebrajsku ozdoby. Warsztaty plastyczne skierowane do dzieci i......
URL:https://app.evenea.pl/event/861650-45/
PRIORITY:1
CLASS:PUBLIC
END:VEVENT
END:VCALENDAR
