BEGIN:VCALENDAR
VERSION:2.0
METHOD:PUBLISH
BEGIN:VEVENT
DTSTART:20250911T170000
DTEND:20250911T170000
LOCATION:   
TRANSP: OPAQUE
SEQUENCE:0
UID:
DTSTAMP:20260422T021702Z
SUMMARY:ZBLIŻENIA XIII |Medabrim iwrit! | warsztaty z języka hebrajskiego
DESCRIPTION:Kiedy: 11 września 2025, godz. 17:00-18:30 (obowiązują zapisy)*Gdzie: Nowa Synagoga w Gdańsku, ul. Partyzantów 7 Warsztaty języka hebrajskiego to wyjątkowa okazja, aby poznać podstawy......
URL:https://app.evenea.pl/event/861650-46/
PRIORITY:1
CLASS:PUBLIC
END:VEVENT
END:VCALENDAR
