BEGIN:VCALENDAR
VERSION:2.0
METHOD:PUBLISH
BEGIN:VEVENT
DTSTART:20200930T160000
DTEND:20200930T160000
LOCATION:Global   
TRANSP: OPAQUE
SEQUENCE:0
UID:
DTSTAMP:20260421T135218Z
SUMMARY:Reaching  99.999% availability in cloud / Motorola Solutions TECH MEETUP
DESCRIPTION:Reaching 99.999% availability in cloud.Building mission-critical software for five nines (99.999%) availability deployed into commercial cloud environments is hard but not impossible. Join virtual......
URL:https://app.evenea.pl/event/862459-1/
PRIORITY:1
CLASS:PUBLIC
END:VEVENT
END:VCALENDAR
