BEGIN:VCALENDAR
VERSION:2.0
METHOD:PUBLISH
BEGIN:VEVENT
DTSTART:20201202T160000
DTEND:20201202T160000
LOCATION:Globalnie   
TRANSP: OPAQUE
SEQUENCE:0
UID:
DTSTAMP:20260424T013935Z
SUMMARY:Artificial Intelligence & Machine Learning for Public Safety (part II)
DESCRIPTION:On Wednesday afternoon Tech Meet Experts from Motorola Solutions revealed how to use Artificial Intelligence in the transcription of emergency calls and Virtual Assistant Partner.Another edition of......
URL:https://app.evenea.pl/event/862459-4/
PRIORITY:1
CLASS:PUBLIC
END:VEVENT
END:VCALENDAR
