BEGIN:VCALENDAR
VERSION:2.0
METHOD:PUBLISH
BEGIN:VEVENT
DTSTART:20230728T190000
DTEND:20230728T190000
LOCATION:Teatr Polski w Bielsku-Białej ul. 1 Maja 1  43-300 Bielsko-Biała
TRANSP: OPAQUE
SEQUENCE:0
UID:
DTSTAMP:20260424T072932Z
SUMMARY:Ladislau Dowbor - wywiad rzeka | Teatr Polski w Bielsku-Białej | 28.07.2023
DESCRIPTION:Beskidzka Izba Gospodarcza oraz firma członkowska PWS Konstanta S.A., mają przyjemność zaprosić Państwa do udziału w wyjątkowym wydarzeniu - jedynym w Polsce indywidualnym spotkaniu z......
URL:https://app.evenea.pl/event/864131-16/
PRIORITY:1
CLASS:PUBLIC
END:VEVENT
END:VCALENDAR
