BEGIN:VCALENDAR
VERSION:2.0
METHOD:PUBLISH
BEGIN:VEVENT
DTSTART:20241119T090000
DTEND:20241119T130000
LOCATION:Restauracja BOSCO ul. Gen. Stanisława Maczka 41  43-300 Bielsko-Biała
TRANSP: OPAQUE
SEQUENCE:0
UID:
DTSTAMP:20260421T190957Z
SUMMARY:SPOTKANIE BIZNESOWE | Dlaczego wszyscy mówią o ESG? Jak zbudować przewagę konkurencyjną firmy?
DESCRIPTION:Beskidzka Izba Gospodarcza wraz z Partnerem: Bankiem BNP Paribas ma przyjemność zaprosić Państwa do udziału w interesującym spotkaniu biznesowym pt.: "Dlaczego wszyscy mówią o ESG? Jak......
URL:https://app.evenea.pl/event/864131-19112024/
PRIORITY:1
CLASS:PUBLIC
END:VEVENT
END:VCALENDAR
