BEGIN:VCALENDAR
VERSION:2.0
METHOD:PUBLISH
BEGIN:VEVENT
DTSTART:20260424T100000
DTEND:20260531T150000
LOCATION:on-line   
TRANSP: OPAQUE
SEQUENCE:0
UID:
DTSTAMP:20260423T020508Z
SUMMARY:Akademia Prawa Pracy cykl webinariów kwiecień/maj - zakończony certyfikatem SAZ
DESCRIPTION:Już 📅 24 kwietnia rozpoczynamy 🎓 Akademię SAZ - Prawo Pracy dla firm rekrutujących i nie tylko.To kompleksowy cykl 7 spotkań online, przygotowany z myślą o firmach rekrutujących oraz......
URL:https://app.evenea.pl/event/864585-77/
PRIORITY:1
CLASS:PUBLIC
END:VEVENT
END:VCALENDAR
