BEGIN:VCALENDAR
VERSION:2.0
METHOD:PUBLISH
BEGIN:VEVENT
DTSTART:20230721T190000
DTEND:20230721T190000
LOCATION:hotel Monopol, ul. Modrzejewskiej   
TRANSP: OPAQUE
SEQUENCE:0
UID:
DTSTAMP:20260421T082935Z
SUMMARY:Śladami Klossa po Wrocławiu
DESCRIPTION:Śladami Klossa po Wrocławiu: 21.07.2023, piątek, godz. 19.00, początek przy wejściu do hotelu Monopol, ul. Modrzejewskiej. Prowadzący Bogdan BernackiLatem 1968 roku w ścisłym centrum miasta......
URL:https://app.evenea.pl/event/865310-10/
PRIORITY:1
CLASS:PUBLIC
END:VEVENT
END:VCALENDAR
