BEGIN:VCALENDAR
VERSION:2.0
METHOD:PUBLISH
BEGIN:VEVENT
DTSTART:20240719T190000
DTEND:20240719T190000
LOCATION:spotkanie: przed pręgierzem Rynek  Wrocław
TRANSP: OPAQUE
SEQUENCE:0
UID:
DTSTAMP:20260422T073004Z
SUMMARY:Filmowy Wrocław. Rynek i jego okolice - wycieczka piesza
DESCRIPTION:W filmowych kadrach często widzimy centrum Wrocławia, jakiego już nie ma: z ruchem kołowym w Rynku, liniami tramwajowymi wzdłuż jego pierzei północnej i południowej, lokalami i......
URL:https://app.evenea.pl/event/865310-27/
PRIORITY:1
CLASS:PUBLIC
END:VEVENT
END:VCALENDAR
