BEGIN:VCALENDAR
VERSION:2.0
METHOD:PUBLISH
BEGIN:VEVENT
DTSTART:20250629T180000
DTEND:20250629T180000
LOCATION:Wrocław, Hotel AC by Marriott przy pl. Wolności 10   
TRANSP: OPAQUE
SEQUENCE:0
UID:
DTSTAMP:20260423T065829Z
SUMMARY:Spotkanie z reżyserem Waldemarem Krzystkiem
DESCRIPTION:Stowarzyszenie Podróżników TUiTAM oraz Filmowy Wrocław zapraszają serdecznie na spotkanie z Waldemarem Krzystkiem: 29.06.2025 o godz. 18.00, Hotel AC by Marriott przy pl. Wolności 10.Waldemar......
URL:https://app.evenea.pl/event/865310-57/
PRIORITY:1
CLASS:PUBLIC
END:VEVENT
END:VCALENDAR
