BEGIN:VCALENDAR
VERSION:2.0
METHOD:PUBLISH
BEGIN:VEVENT
DTSTART:20220827T110000
DTEND:20220827T110000
LOCATION:Ostrów Tumski   Wrocław
TRANSP: OPAQUE
SEQUENCE:0
UID:
DTSTAMP:20260421T083028Z
SUMMARY:Легенди та таємниці островів Вроцлава - прогулянка з місцевим гідом
DESCRIPTION:Тумський Острiв - це не лише найстаріша частина Вроцлава, це також місце, повне зачарованих постатей та......
URL:https://app.evenea.pl/event/866772-sierpien/
PRIORITY:1
CLASS:PUBLIC
END:VEVENT
END:VCALENDAR
