BEGIN:VCALENDAR
VERSION:2.0
METHOD:PUBLISH
BEGIN:VEVENT
DTSTART:20220813T110000
DTEND:20220813T110000
LOCATION:plac Solny, pod Małą Iglicą   
TRANSP: OPAQUE
SEQUENCE:0
UID:
DTSTAMP:20260421T083156Z
SUMMARY:Слідами вроцлавських гномів - прогулянка з місцевим гідом
DESCRIPTION:Ласкаво просимо до Вроцлава! Щиро запрошуємо вас на прогулянку, під час якої ви дізнаєтесь легенди та......
URL:https://app.evenea.pl/event/866772-sierpien1/
PRIORITY:1
CLASS:PUBLIC
END:VEVENT
END:VCALENDAR
