BEGIN:VCALENDAR
VERSION:2.0
METHOD:PUBLISH
BEGIN:VEVENT
DTSTART:20230418T093000
DTEND:20230418T163000
LOCATION:Siedziba CMS, Varso Tower, ul. Chmielna 69/73 wejście C ul. Chmielna 69/73  Warszawa
TRANSP: OPAQUE
SEQUENCE:0
UID:
DTSTAMP:20260423T140345Z
SUMMARY:Leadership Trends Summit
DESCRIPTION:\n\n	\n\n	\n\n\n\n	\n\n	\n\n\n\n	\n\n\n\n	\n\n	\n\nKINGMAKERS KONFERENCJA LEADERSHIP TRENDS SUMMIT\n\n	Zyskaj wiedzę i jeszcze lepiej zadbaj o pracowników w firmie!\n\nChcesz, aby kultura......
URL:https://app.evenea.pl/event/868338-1/
PRIORITY:1
CLASS:PUBLIC
END:VEVENT
END:VCALENDAR
