BEGIN:VCALENDAR
VERSION:2.0
METHOD:PUBLISH
BEGIN:VEVENT
DTSTART:20210613T173000
DTEND:20210613T173000
LOCATION:Dworzec PKP Bydgoszcz Główna Zygmunta Augusta 7  Bydgoszcz
TRANSP: OPAQUE
SEQUENCE:0
UID:
DTSTAMP:20260421T200421Z
SUMMARY:ODYSEJA - Teatr Nowszy (Bydgoszcz)
DESCRIPTION:Teatr Nowszy oraz Teatr Polski zapraszają na pokazy spektaklu ODYSEJA.Choć współczesny świat stoi dla nas otworem, to coraz rzadziej wyruszamy w podróż, która nie tylko jest przygodą, ale......
URL:https://app.evenea.pl/event/871795-7/
PRIORITY:1
CLASS:PUBLIC
END:VEVENT
END:VCALENDAR
