BEGIN:VCALENDAR
VERSION:2.0
METHOD:PUBLISH
BEGIN:VEVENT
DTSTART:20210831T113000
DTEND:20210831T133000
LOCATION:Pałac Lubomirskich Business Centre Club Plac Żelaznej Bramy 10  Warszawa
TRANSP: OPAQUE
SEQUENCE:0
UID:
DTSTAMP:20260420T223510Z
SUMMARY:Pracownik na stanowisku czy pod respiratorem? Seminarium.
DESCRIPTION:Odpowiedzialność pracodawcy za zdrowie pracowników w sytuacji szczepień oraz ograniczonego finasowania służby zdrowia, to poważne wyzwanie. Co możemy? Czego nie?Na spotkaniu otrzymacie......
URL:https://app.evenea.pl/event/873346-2/
PRIORITY:1
CLASS:PUBLIC
END:VEVENT
END:VCALENDAR
