BEGIN:VCALENDAR
VERSION:2.0
METHOD:PUBLISH
BEGIN:VEVENT
DTSTART:20210826T163000
DTEND:20210826T190000
LOCATION:Pałac Lubomirskich Plac Żelaznej Bramy 10  Warszawa
TRANSP: OPAQUE
SEQUENCE:0
UID:
DTSTAMP:20260420T222929Z
SUMMARY:Business Walk
DESCRIPTION:Wstać od biurka i komputera. Zaczerpnąć powietrza. Przeprowadzić inspirującą wymianę zdań. Poodbijać myśli z kimś o podobnej odpowiedzialności, znającym realia biznesowe. Zainspirować......
URL:https://app.evenea.pl/event/873346-3/
PRIORITY:1
CLASS:PUBLIC
END:VEVENT
END:VCALENDAR
