BEGIN:VCALENDAR
VERSION:2.0
METHOD:PUBLISH
BEGIN:VEVENT
DTSTART:20211030T100000
DTEND:20211030T120000
LOCATION:Niepubliczna Szkoła Podstawowa Adventure ul. Darłowska 3b  Ustka
TRANSP: OPAQUE
SEQUENCE:0
UID:
DTSTAMP:20260423T175200Z
SUMMARY:Daj drugie życie przedmiotom / Warsztaty rodzinne / Kamila Bednarz
DESCRIPTION:Niepubliczna Szkoła Podstawowa Adventure w Ustce zaprasza mieszkańców Powiatu Słupskiego na otwarte warsztaty rodzinne "Daj drugie życie przedmiotom", które poprowadzi Kamila Bednarz w ramach......
URL:https://app.evenea.pl/event/875452-3/
PRIORITY:1
CLASS:PUBLIC
END:VEVENT
END:VCALENDAR
