BEGIN:VCALENDAR
VERSION:2.0
METHOD:PUBLISH
BEGIN:VEVENT
DTSTART:20220312T110000
DTEND:20220312T110000
LOCATION:Niepubliczna Szkoła Podstawowa Adventure ul. Darłowska 3b  Ustka
TRANSP: OPAQUE
SEQUENCE:0
UID:
DTSTAMP:20260421T180324Z
SUMMARY:Dzień OtwARTy w NSP Adventure w Ustce
DESCRIPTION:Zapraszamy na Dzień Otwarty z Nowoczesnymi Warsztatami Edukacyjnymi w Niepublicznej Szkole Podstawowej Adventure w Ustce.W programie m.in.• Dlaczego warto zmieniać edukację - o Szkole......
URL:https://app.evenea.pl/event/875452-7/
PRIORITY:1
CLASS:PUBLIC
END:VEVENT
END:VCALENDAR
