BEGIN:VCALENDAR
VERSION:2.0
METHOD:PUBLISH
BEGIN:VEVENT
DTSTART:20211002T190000
DTEND:20211002T190000
LOCATION:Zakład Kulturalny Aleja Rzeczypospolitej 8  Gdańsk
TRANSP: OPAQUE
SEQUENCE:0
UID:
DTSTAMP:20260423T232623Z
SUMMARY:"KOBIETY, STRASZNIE ŚMIAĆ SIĘ!" - PREMIERA
DESCRIPTION:"KOBIETY, STRASZNIE ŚMIAĆ SIĘ" to drugi teatralny poemat dokumentalny Rity Jankowskiej i Mai Miro, które umówiły się na rzecz o "momentach transformacyjnych kobiet", naprawie kobiecego......
URL:https://app.evenea.pl/event/876352-1/
PRIORITY:1
CLASS:PUBLIC
END:VEVENT
END:VCALENDAR
