BEGIN:VCALENDAR
VERSION:2.0
METHOD:PUBLISH
BEGIN:VEVENT
DTSTART:20211009T100000
DTEND:20211009T113000
LOCATION:Biblioteka Samorządowa w Żukowie 3 Maja 9B  Żukowo
TRANSP: OPAQUE
SEQUENCE:0
UID:
DTSTAMP:20260420T093706Z
SUMMARY:Warsztaty zielarskie "Czytanie wzmacnia... odporność"
DESCRIPTION:Serdecznie zapraszamy na rodzinne warsztaty zielarskie w ramach ogólnopolskiej akcji "Noc Bibliotek 2021", która w tym roku odbędzie się pod hasłem CZYTANIE WZMACNIA.My chcemy pokazać Wam,......
URL:https://app.evenea.pl/event/876811-1/
PRIORITY:1
CLASS:PUBLIC
END:VEVENT
END:VCALENDAR
