BEGIN:VCALENDAR
VERSION:2.0
METHOD:PUBLISH
BEGIN:VEVENT
DTSTART:20240118T110000
DTEND:20240118T120000
LOCATION:Platforma Teams   
TRANSP: OPAQUE
SEQUENCE:0
UID:
DTSTAMP:20260424T140213Z
SUMMARY:#2 - Zacznij nowy rok z dobrym modelem IFC - Tekla Structures
DESCRIPTION:Zapraszamy do rejestracji i udziału w serii webinariów organizowanych przez bulidingSMART Polska zatytułowanych "Zacznij nowy rok z dobrym modelem IFC". W ramach serii odbędą się 3 webinary,......
URL:https://app.evenea.pl/event/877055-10/
PRIORITY:1
CLASS:PUBLIC
END:VEVENT
END:VCALENDAR
