BEGIN:VCALENDAR
VERSION:2.0
METHOD:PUBLISH
BEGIN:VEVENT
DTSTART:20240425T140000
DTEND:20240425T150000
LOCATION:Platforma Teams   
TRANSP: OPAQUE
SEQUENCE:0
UID:
DTSTAMP:20260424T183459Z
SUMMARY:Webinar Legal Domain buildingSMART Polska - BIMowe sito zamówień publicznych - Warunki udziału w postępowaniu
DESCRIPTION:Zapraszamy na webinar organizowany przez Legal Domain buildingSMART Polska poświęcony tematowi warunków udziału w postępowaniu o udzielenie zamówienia publicznego. Wydarzenie skierowane jest......
URL:https://app.evenea.pl/event/877055-12/
PRIORITY:1
CLASS:PUBLIC
END:VEVENT
END:VCALENDAR
