BEGIN:VCALENDAR
VERSION:2.0
METHOD:PUBLISH
BEGIN:VEVENT
DTSTART:20251208T113000
DTEND:20251208T143000
LOCATION:Hotel Intercontinental Emilii Plater 49  Warszawa
TRANSP: OPAQUE
SEQUENCE:0
UID:
DTSTAMP:20260421T180400Z
SUMMARY:Twin Talks Warsaw '25
DESCRIPTION:English version belowTwin Talks Warsaw '25Satysfakcjonujący rozwój metodyki BIM w projektach infrastrukturalnych w ostatnich latach pozwala z optymizmem patrzeć na coraz mniejszą różnicę......
URL:https://app.evenea.pl/event/877055-18/
PRIORITY:1
CLASS:PUBLIC
END:VEVENT
END:VCALENDAR
