BEGIN:VCALENDAR
VERSION:2.0
METHOD:PUBLISH
BEGIN:VEVENT
DTSTART:20230613T140000
DTEND:20230613T153000
LOCATION:platforma MS Teams   
TRANSP: OPAQUE
SEQUENCE:0
UID:
DTSTAMP:20260421T232051Z
SUMMARY:Konsultacje publiczne podgrupy roboczej ds. klasyfikacji CCI działającej w ramach Grupy Roboczej ds. BIM przy Ministerstwie Rozwoju i Technologii
DESCRIPTION:W imieniu podgrupy roboczej ds. wdrożenia klasyfikacji budowlanej CCI, działającej od lutego 2023 roku w ramach Grupy Roboczej ds. BIM przy Ministerstwie Technologii i Rozwoju, mamy zaszczyt......
URL:https://app.evenea.pl/event/877055-7/
PRIORITY:1
CLASS:PUBLIC
END:VEVENT
END:VCALENDAR
