BEGIN:VCALENDAR
VERSION:2.0
METHOD:PUBLISH
BEGIN:VEVENT
DTSTART:20231024T133000
DTEND:20231024T150000
LOCATION:platforma MS Teams   
TRANSP: OPAQUE
SEQUENCE:0
UID:
DTSTAMP:20260422T000748Z
SUMMARY:Konsultacje dotyczące opracowywanej koncepcji wdrożenia w Polsce klasyfikacji budowlanej CCI
DESCRIPTION:Zapraszamy na drugie spotkanie konsultacyjne dotyczące opracowywanej koncepcji wdrożenia w Polsce klasyfikacji budowlanej CCI, które odbędzie się 24 października 2023 roku w godz. 13:30 -......
URL:https://app.evenea.pl/event/877055-8/
PRIORITY:1
CLASS:PUBLIC
END:VEVENT
END:VCALENDAR
