BEGIN:VCALENDAR
VERSION:2.0
METHOD:PUBLISH
BEGIN:VEVENT
DTSTART:20221119T150000
DTEND:20221119T150000
LOCATION:Muzeum Dulag 121 3 Maja 8A  Pruszków
TRANSP: OPAQUE
SEQUENCE:0
UID:
DTSTAMP:20260420T013637Z
SUMMARY:Szpitale wojenne w Pruszkowie. Wrzesień 1939 - wykład dr. Mirosława Wawrzyńskiego
DESCRIPTION:Serdecznie zapraszamy do Muzeum Dulag 121 na kolejny wykład dr. Mirosława Wawrzyńskiego z cyklu spotkań poświęconych historii Pruszkowa podczas II wojny światowej. 19 listopada o godz. 15.00......
URL:https://app.evenea.pl/event/878214-9/
PRIORITY:1
CLASS:PUBLIC
END:VEVENT
END:VCALENDAR
