BEGIN:VCALENDAR
VERSION:2.0
METHOD:PUBLISH
BEGIN:VEVENT
DTSTART:20230620T100000
DTEND:20230620T170000
LOCATION:Haston City Hotel **** Irysowa 1/3  Wrocław
TRANSP: OPAQUE
SEQUENCE:0
UID:
DTSTAMP:20260422T091226Z
SUMMARY:IX Wrocławskie Forum Kobiet
DESCRIPTION:Wydarzenie bezpłatne. Więcej: https://wroclawskieforumkobiet.pl/...
URL:https://app.evenea.pl/event/879811-23/
PRIORITY:1
CLASS:PUBLIC
END:VEVENT
END:VCALENDAR
