BEGIN:VCALENDAR
VERSION:2.0
METHOD:PUBLISH
BEGIN:VEVENT
DTSTART:20230921T100000
DTEND:20230921T100000
LOCATION:Teatr Forum przy Międzynarodowym Centrum Ceramiki Piłsudskiego 1C  Bolesławiec
TRANSP: OPAQUE
SEQUENCE:0
UID:
DTSTAMP:20260424T143948Z
SUMMARY:International Networking Meetings - Bolesławiec
DESCRIPTION:Celem INM 2023 jest stworzenie nowoczesnej i dynamicznej platformy spotkań biznesowych, umożliwiającej rozwijanie współpracy pomiędzy przedsiębiorcami, samorządami, instytucjami rządowymi......
URL:https://app.evenea.pl/event/879811-30/
PRIORITY:1
CLASS:PUBLIC
END:VEVENT
END:VCALENDAR
