BEGIN:VCALENDAR
VERSION:2.0
METHOD:PUBLISH
BEGIN:VEVENT
DTSTART:20240306T110000
DTEND:20240306T110000
LOCATION:Art Hotel Kiełbaśnicza 20  Wrocław
TRANSP: OPAQUE
SEQUENCE:0
UID:
DTSTAMP:20260425T004959Z
SUMMARY:Sztuka Kontaktu - Szkolenie i Networking
DESCRIPTION:Sztuka Kontaktu - Networking we wrocławskim Art HoteluZapraszamy na kolejny Networking połączony z solidną dawką wiedzy dla przedsiębiorców!6 marca 202411:00 - 14:00ART Hotel, Sala......
URL:https://app.evenea.pl/event/879811-41/
PRIORITY:1
CLASS:PUBLIC
END:VEVENT
END:VCALENDAR
